



BEGIN:VCALENDAR
VERSION:2.0
PRODID:-//wp-events-plugin.com//7.2.3.1//EN
BEGIN:VEVENT
UID:7626@labo-emc.org
DTSTART;TZID=Europe/Paris:20260213T130000
DTEND;TZID=Europe/Paris:20260213T141500
DTSTAMP:20260212T111714Z
URL:https://labo-emc.org/reservation/events/cazeau-pedraza-4/
SUMMARY:CAZEAU (PEDRAZA)
DESCRIPTION:
CATEGORIES:Salle C17D
END:VEVENT
BEGIN:VTIMEZONE
TZID:Europe/Paris
X-LIC-LOCATION:Europe/Paris
BEGIN:STANDARD
DTSTART:20251026T020000
TZOFFSETFROM:+0200
TZOFFSETTO:+0100
TZNAME:CET
END:STANDARD
END:VTIMEZONE
END:VCALENDAR