



BEGIN:VCALENDAR
VERSION:2.0
PRODID:-//wp-events-plugin.com//7.2.3.1//EN
BEGIN:VEVENT
UID:7352@labo-emc.org
DTSTART:20260123T100000Z
DTEND:20260123T120000Z
DTSTAMP:20260122T143144Z
URL:https://labo-emc.org/reservation/events/bourne-rosaz-logan-navarro-jor
 dan/
SUMMARY:Bourne-Rosaz Logan - Navarro Jordan
DESCRIPTION:
CATEGORIES:Salle C17F - Passation collective (6 postes)
END:VEVENT
END:VCALENDAR