



BEGIN:VCALENDAR
VERSION:2.0
PRODID:-//wp-events-plugin.com//7.2.3.1//EN
BEGIN:VEVENT
UID:7358@labo-emc.org
DTSTART:20260128T100000Z
DTEND:20260128T170000Z
DTSTAMP:20260123T131419Z
URL:https://labo-emc.org/reservation/events/bourne-rosaz-logan-navarro-jor
 dan-3/
SUMMARY:Bourne-Rosaz Logan - Navarro Jordan
DESCRIPTION:
CATEGORIES:Salle C17F - Passation collective (6 postes)
END:VEVENT
END:VCALENDAR