



BEGIN:VCALENDAR
VERSION:2.0
PRODID:-//wp-events-plugin.com//7.2.3.1//EN
BEGIN:VEVENT
UID:7268@labo-emc.org
DTSTART:20251205T141500Z
DTEND:20251205T150000Z
DTSTAMP:20251205T124222Z
URL:https://labo-emc.org/reservation/events/bourdon-mongelard-caudrelier/
SUMMARY:Bourdon Mongelard - Caudrelier
DESCRIPTION:
CATEGORIES:Salle C17i
END:VEVENT
END:VCALENDAR