



BEGIN:VCALENDAR
VERSION:2.0
PRODID:-//wp-events-plugin.com//7.2.3.1//EN
BEGIN:VEVENT
UID:7351@labo-emc.org
DTSTART:20260129T120000Z
DTEND:20260129T131500Z
DTSTAMP:20260122T140535Z
URL:https://labo-emc.org/reservation/events/bourdon-caudrelier-9/
SUMMARY:Bourdon - Caudrelier
DESCRIPTION:
CATEGORIES:Salle C17J
END:VEVENT
END:VCALENDAR