



BEGIN:VCALENDAR
VERSION:2.0
PRODID:-//wp-events-plugin.com//7.2.3.1//EN
BEGIN:VEVENT
UID:7331@labo-emc.org
DTSTART:20260122T110000Z
DTEND:20260122T120000Z
DTSTAMP:20260120T060520Z
URL:https://labo-emc.org/reservation/events/bourdon-caudrelier-5/
SUMMARY:Bourdon - Caudrelier
DESCRIPTION:
CATEGORIES:Salle C17i
END:VEVENT
END:VCALENDAR