



BEGIN:VCALENDAR
VERSION:2.0
PRODID:-//wp-events-plugin.com//7.2.3.1//EN
BEGIN:VEVENT
UID:7321@labo-emc.org
DTSTART:20260126T084500Z
DTEND:20260126T100000Z
DTSTAMP:20260118T220434Z
URL:https://labo-emc.org/reservation/events/bourdon-caudrelier-4/
SUMMARY:Bourdon - Caudrelier
DESCRIPTION:
CATEGORIES:Salle C17i
END:VEVENT
END:VCALENDAR