



BEGIN:VCALENDAR
VERSION:2.0
PRODID:-//wp-events-plugin.com//7.2.3.1//EN
BEGIN:VEVENT
UID:7882@labo-emc.org
DTSTART:20260312T120000Z
DTEND:20260312T124500Z
DTSTAMP:20260305T151731Z
URL:https://labo-emc.org/reservation/events/bourdon-caudrelier-31/
SUMMARY:Bourdon - Caudrelier
DESCRIPTION:
CATEGORIES:Salle C17i
END:VEVENT
END:VCALENDAR