



BEGIN:VCALENDAR
VERSION:2.0
PRODID:-//wp-events-plugin.com//7.2.3.1//EN
BEGIN:VEVENT
UID:7818@labo-emc.org
DTSTART:20260305T130000Z
DTEND:20260305T140000Z
DTSTAMP:20260302T082020Z
URL:https://labo-emc.org/reservation/events/bourdon-caudrelier-29/
SUMMARY:Bourdon - Caudrelier
DESCRIPTION:
CATEGORIES:Salle C17D
END:VEVENT
END:VCALENDAR