



BEGIN:VCALENDAR
VERSION:2.0
PRODID:-//wp-events-plugin.com//7.2.3.1//EN
BEGIN:VEVENT
UID:7596@labo-emc.org
DTSTART:20260211T130000Z
DTEND:20260211T133000Z
DTSTAMP:20260211T044824Z
URL:https://labo-emc.org/reservation/events/bourdon-caudrelier-25/
SUMMARY:Bourdon - Caudrelier
DESCRIPTION:
CATEGORIES:Salle C17D
END:VEVENT
END:VCALENDAR