



BEGIN:VCALENDAR
VERSION:2.0
PRODID:-//wp-events-plugin.com//7.2.3.1//EN
BEGIN:VEVENT
UID:7456@labo-emc.org
DTSTART:20260202T110000Z
DTEND:20260202T120000Z
DTSTAMP:20260130T165055Z
URL:https://labo-emc.org/reservation/events/bourdon-caudrelier-16/
SUMMARY:Bourdon - Caudrelier
DESCRIPTION:
CATEGORIES:Salle C17i
END:VEVENT
END:VCALENDAR