



BEGIN:VCALENDAR
VERSION:2.0
PRODID:-//wp-events-plugin.com//7.2.3.1//EN
BEGIN:VEVENT
UID:7832@labo-emc.org
DTSTART:20260310T114500Z
DTEND:20260310T130000Z
DTSTAMP:20260302T142448Z
URL:https://labo-emc.org/reservation/events/bonnetaud-michael-8/
SUMMARY:BONNETAUD MICHAEL
DESCRIPTION:
CATEGORIES:Salle C17i
END:VEVENT
END:VCALENDAR