



BEGIN:VCALENDAR
VERSION:2.0
PRODID:-//wp-events-plugin.com//7.2.3.1//EN
BEGIN:VEVENT
UID:7815@labo-emc.org
DTSTART:20260313T101500Z
DTEND:20260313T134500Z
DTSTAMP:20260301T191732Z
URL:https://labo-emc.org/reservation/events/bonnetaud-michael-7/
SUMMARY:BONNETAUD MICHAEL
DESCRIPTION:
CATEGORIES:Salle C17i
END:VEVENT
END:VCALENDAR