



BEGIN:VCALENDAR
VERSION:2.0
PRODID:-//wp-events-plugin.com//7.2.3.1//EN
BEGIN:VEVENT
UID:7841@labo-emc.org
DTSTART:20260309T140000Z
DTEND:20260309T153000Z
DTSTAMP:20260302T195612Z
URL:https://labo-emc.org/reservation/events/bonnetaud-michael-12/
SUMMARY:BONNETAUD MICHAEL
DESCRIPTION:
CATEGORIES:Salle C17i
END:VEVENT
END:VCALENDAR