



BEGIN:VCALENDAR
VERSION:2.0
PRODID:-//wp-events-plugin.com//7.2.3.1//EN
BEGIN:VEVENT
UID:6208@labo-emc.org
DTSTART:20250228T100000Z
DTEND:20250228T120000Z
DTSTAMP:20260421T202214Z
URL:
SUMMARY:BERTEA + DURAN
DESCRIPTION:
END:VEVENT
END:VCALENDAR