



BEGIN:VCALENDAR
VERSION:2.0
PRODID:-//wp-events-plugin.com//7.2.3.1//EN
BEGIN:VEVENT
UID:7098@labo-emc.org
DTSTART:20251103T140000Z
DTEND:20251103T160000Z
DTSTAMP:20251020T073251Z
URL:https://labo-emc.org/reservation/events/azinheira-m2-ihm-navarro-reyna
 ud/
SUMMARY:AZINHEIRA M2 IHM Navarro/Reynaud
DESCRIPTION:
CATEGORIES:Salle C17G - Simulation Conduite
END:VEVENT
END:VCALENDAR