



BEGIN:VCALENDAR
VERSION:2.0
PRODID:-//wp-events-plugin.com//7.2.3.1//EN
BEGIN:VEVENT
UID:7264@labo-emc.org
DTSTART:20251203T130000Z
DTEND:20251203T150000Z
DTSTAMP:20251203T055322Z
URL:https://labo-emc.org/reservation/events/azinheira-m2-ihm-navarro-reyna
 ud-3/
SUMMARY:AZINHEIRA M2 IHM Navarro/Reynaud
DESCRIPTION:
CATEGORIES:Salle C17G - Simulation Conduite
END:VEVENT
END:VCALENDAR