



BEGIN:VCALENDAR
VERSION:2.0
PRODID:-//wp-events-plugin.com//7.2.3.1//EN
BEGIN:VEVENT
UID:7258@labo-emc.org
DTSTART:20251201T150000Z
DTEND:20251201T170000Z
DTSTAMP:20251201T084730Z
URL:https://labo-emc.org/reservation/events/azinheira-m2-ihm-navarro-reyna
 ud-2/
SUMMARY:AZINHEIRA M2 IHM Navarro/Reynaud
DESCRIPTION:
CATEGORIES:Salle C17G - Simulation Conduite
END:VEVENT
END:VCALENDAR