



BEGIN:VCALENDAR
VERSION:2.0
PRODID:-//wp-events-plugin.com//7.2.3.1//EN
BEGIN:VEVENT
UID:7323@labo-emc.org
DTSTART:20260119T101500Z
DTEND:20260119T121500Z
DTSTAMP:20260119T090905Z
URL:https://labo-emc.org/reservation/events/arnaud-fournel-maintenance-4/
SUMMARY:Arnaud Fournel - Maintenance
DESCRIPTION:
CATEGORIES:Salle C17N - EyeLink
END:VEVENT
END:VCALENDAR