



BEGIN:VCALENDAR
VERSION:2.0
PRODID:-//wp-events-plugin.com//7.2.3.1//EN
BEGIN:VEVENT
UID:6718@labo-emc.org
DTSTART:20250407T113000Z
DTEND:20250407T150000Z
DTSTAMP:20250401T122231Z
URL:https://labo-emc.org/reservation/events/anais-mercier-8/
SUMMARY:Anaïs Mercier
DESCRIPTION:
CATEGORIES:Salle C17E - fNIRS
END:VEVENT
END:VCALENDAR