



BEGIN:VCALENDAR
VERSION:2.0
PRODID:-//wp-events-plugin.com//7.2.3.1//EN
BEGIN:VEVENT
UID:6717@labo-emc.org
DTSTART:20250403T113000Z
DTEND:20250403T160000Z
DTSTAMP:20250401T122033Z
URL:https://labo-emc.org/reservation/events/anais-mercier-7/
SUMMARY:Anaïs Mercier
DESCRIPTION:
CATEGORIES:Salle C17E - fNIRS
END:VEVENT
END:VCALENDAR