



BEGIN:VCALENDAR
VERSION:2.0
PRODID:-//wp-events-plugin.com//7.2.3.1//EN
BEGIN:VEVENT
UID:7675@labo-emc.org
DTSTART:20260218T150000Z
DTEND:20260218T160000Z
DTSTAMP:20260218T112610Z
URL:https://labo-emc.org/reservation/events/afandi-perrot-chainay/
SUMMARY:AFANDI-PERROT-CHAINAY
DESCRIPTION:
CATEGORIES:Salle C17N - EyeLink
END:VEVENT
END:VCALENDAR