



BEGIN:VCALENDAR
VERSION:2.0
PRODID:-//wp-events-plugin.com//7.2.3.1//EN
BEGIN:VEVENT
UID:7910@labo-emc.org
DTSTART:20260306T170000Z
DTEND:20260306T180000Z
DTSTAMP:20260306T125452Z
URL:https://labo-emc.org/reservation/events/afandi-perrot-chainay-3/
SUMMARY:AFANDI-PERROT-CHAINAY
DESCRIPTION:
CATEGORIES:Salle C17N - EyeLink
END:VEVENT
END:VCALENDAR