



BEGIN:VCALENDAR
VERSION:2.0
PRODID:-//wp-events-plugin.com//7.2.3.1//EN
BEGIN:VEVENT
UID:7849@labo-emc.org
DTSTART:20260304T110000Z
DTEND:20260304T150000Z
DTSTAMP:20260303T144116Z
URL:https://labo-emc.org/reservation/events/afandi-perrot-chainay-2/
SUMMARY:AFANDI-PERROT-CHAINAY
DESCRIPTION:
CATEGORIES:Salle C17N - EyeLink
END:VEVENT
END:VCALENDAR