



BEGIN:VCALENDAR
VERSION:2.0
PRODID:-//wp-events-plugin.com//7.2.3.1//EN
BEGIN:VEVENT
UID:7852@labo-emc.org
DTSTART:20260305T140000Z
DTEND:20260305T150000Z
DTSTAMP:20260303T223600Z
URL:https://labo-emc.org/reservation/events/afandi-peerot-chainay/
SUMMARY:AFANDI-PEEROT-CHAINAY
DESCRIPTION:
CATEGORIES:Salle C17N - EyeLink
END:VEVENT
END:VCALENDAR