



BEGIN:VCALENDAR
VERSION:2.0
PRODID:-//wp-events-plugin.com//7.2.3.1//EN
BEGIN:VEVENT
UID:7571@labo-emc.org
DTSTART:20260210T160000Z
DTEND:20260210T180000Z
DTSTAMP:20260208T194631Z
URL:https://labo-emc.org/reservation/events/abitboul-dutriaux/
SUMMARY:Abitboul-Dutriaux
DESCRIPTION:
CATEGORIES:Salle C17J
END:VEVENT
END:VCALENDAR