



BEGIN:VCALENDAR
VERSION:2.0
PRODID:-//wp-events-plugin.com//7.2.3.1//EN
BEGIN:VEVENT
UID:7721@labo-emc.org
DTSTART:20260224T154500Z
DTEND:20260224T173000Z
DTSTAMP:20260224T065009Z
URL:https://labo-emc.org/reservation/events/abitboul-dutriaux-2/
SUMMARY:abitboul-dutriaux
DESCRIPTION:
CATEGORIES:Salle C17J
END:VEVENT
END:VCALENDAR