



BEGIN:VCALENDAR
VERSION:2.0
PRODID:-//wp-events-plugin.com//7.2.3.1//EN
BEGIN:VEVENT
UID:7522@labo-emc.org
DTSTART:20260211T140000Z
DTEND:20260211T160000Z
DTSTAMP:20260204T194108Z
URL:https://labo-emc.org/reservation/events/abbouri-collet/
SUMMARY:Abbouri Collet
DESCRIPTION:
CATEGORIES:Salle C17O
END:VEVENT
END:VCALENDAR