



BEGIN:VCALENDAR
VERSION:2.0
PRODID:-//wp-events-plugin.com//7.2.3.1//EN
BEGIN:VEVENT
UID:7517@labo-emc.org
DTSTART:20260206T140000Z
DTEND:20260206T160000Z
DTSTAMP:20260204T162035Z
URL:https://labo-emc.org/reservation/events/abbouri-collet-13/
SUMMARY:Abbouri Collet
DESCRIPTION:
CATEGORIES:Salle C17O
END:VEVENT
END:VCALENDAR