



BEGIN:VCALENDAR
VERSION:2.0
PRODID:-//wp-events-plugin.com//7.2.3.1//EN
BEGIN:VEVENT
UID:7516@labo-emc.org
DTSTART:20260206T104500Z
DTEND:20260206T121500Z
DTSTAMP:20260204T161954Z
URL:https://labo-emc.org/reservation/events/abbouri-collet-11/
SUMMARY:Abbouri Collet
DESCRIPTION:
CATEGORIES:Salle C17O
END:VEVENT
END:VCALENDAR